BEGIN:VCALENDAR
VERSION:2.0
PRODID:-//Dorf Bellinghoven - ECPv6.15.20//NONSGML v1.0//EN
CALSCALE:GREGORIAN
METHOD:PUBLISH
X-ORIGINAL-URL:https://www.bellinghoven.de
X-WR-CALDESC:Veranstaltungen für Dorf Bellinghoven
REFRESH-INTERVAL;VALUE=DURATION:PT1H
X-Robots-Tag:noindex
X-PUBLISHED-TTL:PT1H
BEGIN:VTIMEZONE
TZID:Europe/Berlin
BEGIN:DAYLIGHT
TZOFFSETFROM:+0100
TZOFFSETTO:+0200
TZNAME:CEST
DTSTART:20250330T010000
END:DAYLIGHT
BEGIN:STANDARD
TZOFFSETFROM:+0200
TZOFFSETTO:+0100
TZNAME:CET
DTSTART:20251026T010000
END:STANDARD
BEGIN:DAYLIGHT
TZOFFSETFROM:+0100
TZOFFSETTO:+0200
TZNAME:CEST
DTSTART:20260329T010000
END:DAYLIGHT
BEGIN:STANDARD
TZOFFSETFROM:+0200
TZOFFSETTO:+0100
TZNAME:CET
DTSTART:20261025T010000
END:STANDARD
BEGIN:DAYLIGHT
TZOFFSETFROM:+0100
TZOFFSETTO:+0200
TZNAME:CEST
DTSTART:20270328T010000
END:DAYLIGHT
BEGIN:STANDARD
TZOFFSETFROM:+0200
TZOFFSETTO:+0100
TZNAME:CET
DTSTART:20271031T010000
END:STANDARD
END:VTIMEZONE
BEGIN:VEVENT
DTSTART;TZID=Europe/Berlin:20260430T183000
DTEND;TZID=Europe/Berlin:20260501T120000
DTSTAMP:20260420T073236
CREATED:20251124T125535Z
LAST-MODIFIED:20251124T125535Z
UID:10000008-1777573800-1777636800@www.bellinghoven.de
SUMMARY:Tanz in den Mai 2026
DESCRIPTION:Der Böllerclub Bellinghoven lädt zum traditionellen Maibaumsetzen und Tanz in den Mai ein. \nGegen 18:30 Uhr wird der bunt geschmückte Maibaum aufgestellt. Anschließend beginnt am Lagerfeuer das gemütliche Beisammensein. \nNeben alkoholfreien Getränken stehen Cocktails und Bier vom Fass\, sowie leckere Grillwürste\, Pommes Frites\, Grillkoteletts und Kartoffelsalat auf der Speisekarte.
URL:https://www.bellinghoven.de/veranstaltung/tanz-in-den-mai-2026/
LOCATION:an der Maar\, Am Kapellchen\, Erkelenz\, 41812\, Germany
CATEGORIES:Maifest
ATTACH;FMTTYPE=image/jpeg:https://www.bellinghoven.de/wp-content/uploads/2025/02/BCB-Facebookprofil-Sommerfest-Bellinghoven.jpeg
END:VEVENT
BEGIN:VEVENT
DTSTART;TZID=Europe/Berlin:20260517T100000
DTEND;TZID=Europe/Berlin:20260517T170000
DTSTAMP:20260420T073236
CREATED:20260329T101126Z
LAST-MODIFIED:20260406T182945Z
UID:10000010-1779012000-1779037200@www.bellinghoven.de
SUMMARY:Trödelmarkt 2026
DESCRIPTION:Auch in diesem Jahr veranstalten wir wieder einen Trödelmarkt. \nWeitere Infos\, die Trödelkarte und das Anmeldeformular findest du auf der Seite Trödelmarkt 2026
URL:https://www.bellinghoven.de/veranstaltung/troedelmarkt-2026/
LOCATION:an der Maar\, Am Kapellchen\, Erkelenz\, 41812\, Germany
CATEGORIES:Trödel
END:VEVENT
END:VCALENDAR